BEGIN:VCALENDAR
VERSION:2.0
PRODID:-//hacksw/handcal//NONSGML v1.0//EN
BEGIN:VEVENT
SUMMARY:US Bazoges beaurepaire "2"  -  La Verrie/St Aubin "2"
UID:b6640c3b-ed21-4282-ad4c-0d7f53908d93
DTSTART:20260426T130000Z
DTEND:20260426T220000Z
LOCATION:USBB stade de Beaurepaire   28 rue de la galissoniere 85500 BEAUREPAIRE
CATEGORIES:Sportif
STATUS:
DESCRIPTION:<p><strong>RDV au stade de Beaurepaire<br />
 Horaires:<br
 />
 Maillots</strong></p>
URL;VALUE=URI:https://www.usbb.fr/evenements/2026/04/26/us-bazoges-beaurepaire-2-la-verriest-aubin-2-2443900
END:VEVENT
END:VCALENDAR
