BEGIN:VCALENDAR
VERSION:2.0
PRODID:-//hacksw/handcal//NONSGML v1.0//EN
BEGIN:VEVENT
SUMMARY:St Georges/guyonniere S2G - US Bazoges Beaurepaire "5"
UID:8e77cd83-7650-448d-900d-30d355a2c608
DTSTART:20260426T103000Z
DTEND:20260426T220000Z
LOCATION:Localisation   
CATEGORIES:Sportif
STATUS:
URL;VALUE=URI:https://www.usbb.fr/evenements/2026/04/26/st-georgesguyonniere-s2g-us-bazoges-beaurepaire-5-2443895
END:VEVENT
END:VCALENDAR
