BEGIN:VCALENDAR
VERSION:2.0
PRODID:-//hacksw/handcal//NONSGML v1.0//EN
BEGIN:VEVENT
SUMMARY:Les Robretieres FC -  US Bazoges Beaurepaire
UID:217585bd-e7df-4e32-a80e-c6d88d29cb26
DTSTART:20260426T130000Z
DTEND:20260426T220000Z
LOCATION:Localisation   
CATEGORIES:Sportif
STATUS:
DESCRIPTION:<p><strong>RDV<br />
 Horaires:<br
 />
 Maillots:</strong></p>
URL;VALUE=URI:https://www.usbb.fr/evenements/2026/04/26/les-robretieres-fc-us-bazoges-beaurepaire-2443942
END:VEVENT
END:VCALENDAR
