BEGIN:VCALENDAR
VERSION:2.0
PRODID:-//hacksw/handcal//NONSGML v1.0//EN
BEGIN:VEVENT
SUMMARY:Bellevigny ES "2"  -  US Bazoges beaurepaire "3"
UID:c45c5bb1-49a3-4053-b5b6-5e7a2ce60a73
DTSTART:20260426T130000Z
DTEND:20260426T220000Z
LOCATION:Localisation   
CATEGORIES:Sportif
STATUS:
DESCRIPTION:<p><strong>RDV <br />
 Horaires:<br
 />
 Maillots:</strong></p>
URL;VALUE=URI:https://www.usbb.fr/evenements/2026/04/26/bellevigny-es-2-us-bazoges-beaurepaire-3-2443898
END:VEVENT
END:VCALENDAR
