BEGIN:VCALENDAR
VERSION:2.0
PRODID:-//hacksw/handcal//NONSGML v1.0//EN
BEGIN:VEVENT
SUMMARY:Vendee les Herbiers "U13-fem3" -  US Bazoges Beaurepaire "U13-2"
UID:75a1e363-182f-4f7f-a6fc-b4fd1f4f5a15
DTSTART:20260425T081500Z
DTEND:20260425T220000Z
LOCATION:Localisation   
CATEGORIES:Sportif
STATUS:
URL;VALUE=URI:https://www.usbb.fr/evenements/2026/04/25/vendee-les-herbiers-u13-fem3-us-bazoges-beaurepaire-u13-2-2443891
END:VEVENT
END:VCALENDAR
