BEGIN:VCALENDAR
VERSION:2.0
PRODID:-//hacksw/handcal//NONSGML v1.0//EN
BEGIN:VEVENT
SUMMARY:St Fulgent Vigilante  - US Bazoges Beaurepaire "U13"
UID:765d2586-74df-4bf5-bc80-e56683cfe853
DTSTART:20260425T083000Z
DTEND:20260425T220000Z
LOCATION:Localisation   
CATEGORIES:Sportif
STATUS:
URL;VALUE=URI:https://www.usbb.fr/evenements/2026/04/25/st-fulgent-vigilante-us-bazoges-beaurepaire-u13-2443892
END:VEVENT
END:VCALENDAR
