BEGIN:VCALENDAR
VERSION:2.0
PRODID:-//hacksw/handcal//NONSGML v1.0//EN
BEGIN:VEVENT
SUMMARY:US Bazoges beaurepaire   -  Les Essarts FC "2"
UID:308b18f6-f5eb-4739-97bf-804ec91ca2d1
DTSTART:20260412T130000Z
DTEND:20260412T220000Z
LOCATION:USBB stade de Bazoges  27 rue d'anjou  85  BAZOGES en PAILLERS
CATEGORIES:Sportif
STATUS:
DESCRIPTION:<p><strong>RDV au stade de Bazoges<br />
 Horaires: 13 h
 45<br />
 maillots: Rouges</strong></p>
URL;VALUE=URI:https://www.usbb.fr/evenements/2026/04/12/us-bazoges-beaurepaire-les-essarts-fc-2-2439988
END:VEVENT
END:VCALENDAR
