BEGIN:VCALENDAR
VERSION:2.0
PRODID:-//hacksw/handcal//NONSGML v1.0//EN
BEGIN:VEVENT
SUMMARY:Mesnard/Vendrennes US  - US Bazoges Beaurepaire "4"
UID:303b790e-52e5-420e-868b-afd31da07ca5
DTSTART:20260412T103000Z
DTEND:20260412T220000Z
LOCATION:Localisation   
CATEGORIES:Sportif
STATUS:
DESCRIPTION:<p><strong><span style="font-size:14px;">RDV cafe de
 Beaurepaire<br />
 Horaires: 11 h 10<br />
 Maillots:
 Noirs </span></strong></p>
URL;VALUE=URI:https://www.usbb.fr/evenements/2026/04/12/mesnardvendrennes-us-us-bazoges-beaurepaire-4-2439639
END:VEVENT
END:VCALENDAR
