BEGIN:VCALENDAR
VERSION:2.0
PRODID:-//hacksw/handcal//NONSGML v1.0//EN
BEGIN:VEVENT
SUMMARY:US Bazoges Beaurepaire "U13" - GJ St Denis/Chauche/Cop
UID:c352c875-534f-4d8d-ae03-166bdfcecfc4
DTSTART:20260411T081500Z
DTEND:20260411T220000Z
LOCATION:USBB stade de Bazoges  27 rue d'anjou  85  BAZOGES en PAILLERS
CATEGORIES:Sportif
STATUS:
URL;VALUE=URI:https://www.usbb.fr/evenements/2026/04/11/us-bazoges-beaurepaire-u13-gj-st-denischauchecop-2439326
END:VEVENT
END:VCALENDAR
